View In:
ArcGIS JavaScript
ArcGIS Online Map Viewer
ArcGIS Earth
Service Description: Raster/PuyallupSurfaceModelHillShade
Name: Raster/PuyallupSurfaceModelHillShade
Description:
Single Fused Map Cache: false
Extent:
XMin: 1173386.0
YMin: 657466.0
XMax: 1236578.0
YMax: 704461.0
Spatial Reference: 2927
(2927)
VCSWkid(105703)
LatestVCSWkid(6360)
Initial Extent:
XMin: 1173386.0
YMin: 657466.0
XMax: 1236578.0
YMax: 704461.0
Spatial Reference: 2927
(2927)
VCSWkid(105703)
LatestVCSWkid(6360)
Full Extent:
XMin: 1173386.0
YMin: 657466.0
XMax: 1236578.0
YMax: 704461.0
Spatial Reference: 2927
(2927)
VCSWkid(105703)
LatestVCSWkid(6360)
Pixel Size X: 3.0
Pixel Size Y: 3.0
Band Count: 1
Pixel Type: U8
RasterFunction Infos: {"rasterFunctionInfos": [{
"name": "None",
"description": "",
"help": ""
}]}
Mensuration Capabilities: Basic
Inspection Capabilities:
Has Histograms: true
Has Colormap: false
Has Multi Dimensions : false
Rendering Rule:
Min Scale: 130889.5120851734
Max Scale: 4090.2972526616686
Min LOD: 13
Max LOD: 18
Copyright Text:
Service Data Type: esriImageServiceDataTypeGeneric
Min Values: 0
Max Values: 254
Mean Values: 171.17102301288
Standard Deviation Values: 74.963236560304
Object ID Field:
Fields:
None
Default Mosaic Method: Center
Allowed Mosaic Methods:
SortField:
SortValue: null
Mosaic Operator: First
Default Compression Quality: 75
Default Resampling Method: Bilinear
Max Record Count: null
Max Image Height: 4100
Max Image Width: 15000
Max Download Image Count: null
Max Mosaic Image Count: null
Allow Raster Function: true
Allow Copy: true
Allow Analysis: true
Allow Compute TiePoints: false
Supports Statistics: false
Supports Advanced Queries: false
Use StandardizedQueries: true
Raster Type Infos:
Name: Raster Dataset
Description: Supports all ArcGIS Raster Datasets
Help:
Has Raster Attribute Table: false
Edit Fields Info: null
Ownership Based AccessControl For Rasters: null
Child Resources:
Info
Histograms
Statistics
Key Properties
Legend
Raster Function Infos
Supported Operations:
Export Image
Identify
Measure
Compute Histograms
Compute Statistics Histograms
Get Samples
Compute Class Statistics
Query Boundary
Compute Pixel Location
Compute Angles
Validate
Project