View In:
ArcGIS JavaScript
ArcGIS Online Map Viewer
ArcGIS Earth
Service Description: Raster/2023_Imagery
Name: Raster/2023_Imagery
Description:
Single Fused Map Cache: false
Extent:
XMin: 1181000.0
YMin: 664999.8499999999
XMax: 1210999.9700000002
YMax: 695000.1500000001
Spatial Reference: 2927
(2927)
LatestVCSWkid(0)
Initial Extent:
XMin: 1181000.0
YMin: 664999.8499999999
XMax: 1210999.9700000002
YMax: 695000.1500000001
Spatial Reference: 2927
(2927)
LatestVCSWkid(0)
Full Extent:
XMin: 1181000.0
YMin: 664999.8499999999
XMax: 1210999.9700000002
YMax: 695000.1500000001
Spatial Reference: 2927
(2927)
LatestVCSWkid(0)
Pixel Size X: 0.33000000000000224
Pixel Size Y: 0.33000000000000307
Band Count: 4
Pixel Type: U8
RasterFunction Infos: {"rasterFunctionInfos": [{
"name": "None",
"description": "",
"help": ""
}]}
Mensuration Capabilities: Basic
Inspection Capabilities:
Has Histograms: true
Has Colormap: false
Has Multi Dimensions : false
Rendering Rule:
Min Scale: 0
Max Scale: 0
Copyright Text:
Service Data Type: esriImageServiceDataTypeGeneric
Min Values: 0, 0, 0, 0
Max Values: 255, 255, 255, 255
Mean Values: 66.244617586999, 68.867635702547, 63.655009059366, 101.81257589786
Standard Deviation Values: 56.454735961509, 55.54329428726, 51.378562103083, 74.464129418632
Object ID Field:
Fields:
None
Default Mosaic Method: Center
Allowed Mosaic Methods:
SortField:
SortValue: null
Mosaic Operator: First
Default Compression Quality: 75
Default Resampling Method: Bilinear
Max Record Count: null
Max Image Height: 4100
Max Image Width: 15000
Max Download Image Count: null
Max Mosaic Image Count: null
Allow Raster Function: true
Allow Copy: true
Allow Analysis: true
Allow Compute TiePoints: false
Supports Statistics: false
Supports Advanced Queries: false
Use StandardizedQueries: true
Raster Type Infos:
Name: Raster Dataset
Description: Supports all ArcGIS Raster Datasets
Help:
Has Raster Attribute Table: false
Edit Fields Info: null
Ownership Based AccessControl For Rasters: null
Child Resources:
Info
Histograms
Statistics
Key Properties
Legend
Raster Function Infos
Supported Operations:
Export Image
Identify
Measure
Compute Histograms
Compute Statistics Histograms
Get Samples
Compute Class Statistics
Query Boundary
Compute Pixel Location
Compute Angles
Validate
Project