<?xml version="1.0" encoding="UTF-8" standalone="no"?>
<metadata xml:lang="en">
<Esri>
<CreaDate>20210504</CreaDate>
<CreaTime>14200700</CreaTime>
<ArcGISFormat>1.0</ArcGISFormat>
<SyncOnce>FALSE</SyncOnce>
<DataProperties>
<itemProps>
<itemName Sync="TRUE">2001_Imagery_LastFirst.tif</itemName>
<itemLocation>
<linkage Sync="TRUE">file://C:\Users\Wkeller\Desktop\Orthos\2001\2001_Imagery_LastFirst.tif</linkage>
<protocol Sync="TRUE">Local Area Network</protocol>
</itemLocation>
<imsContentType Sync="TRUE">002</imsContentType>
<nativeExtBox>
<westBL Sync="TRUE">1181000.000122</westBL>
<eastBL Sync="TRUE">1211000.000122</eastBL>
<southBL Sync="TRUE">665000.000122</southBL>
<northBL Sync="TRUE">695000.000122</northBL>
<exTypeCode Sync="TRUE">1</exTypeCode>
</nativeExtBox>
</itemProps>
<coordRef>
<type Sync="TRUE">Projected</type>
<geogcsn Sync="TRUE">GCS_North_American_1983_HARN</geogcsn>
<csUnits Sync="TRUE">Linear Unit: Foot_US (0.304801)</csUnits>
<projcsn Sync="TRUE">NAD_1983_HARN_StatePlane_Washington_South_FIPS_4602_Feet</projcsn>
<peXml Sync="TRUE">&lt;ProjectedCoordinateSystem xsi:type='typens:ProjectedCoordinateSystem' xmlns:xsi='http://www.w3.org/2001/XMLSchema-instance' xmlns:xs='http://www.w3.org/2001/XMLSchema' xmlns:typens='http://www.esri.com/schemas/ArcGIS/2.7.0'&gt;&lt;WKT&gt;PROJCS[&amp;quot;NAD_1983_HARN_StatePlane_Washington_South_FIPS_4602_Feet&amp;quot;,GEOGCS[&amp;quot;GCS_North_American_1983_HARN&amp;quot;,DATUM[&amp;quot;D_North_American_1983_HARN&amp;quot;,SPHEROID[&amp;quot;GRS_1980&amp;quot;,6378137.0,298.257222101]],PRIMEM[&amp;quot;Greenwich&amp;quot;,0.0],UNIT[&amp;quot;Degree&amp;quot;,0.0174532925199433]],PROJECTION[&amp;quot;Lambert_Conformal_Conic&amp;quot;],PARAMETER[&amp;quot;False_Easting&amp;quot;,1640416.666666667],PARAMETER[&amp;quot;False_Northing&amp;quot;,0.0],PARAMETER[&amp;quot;Central_Meridian&amp;quot;,-120.5],PARAMETER[&amp;quot;Standard_Parallel_1&amp;quot;,45.83333333333334],PARAMETER[&amp;quot;Standard_Parallel_2&amp;quot;,47.33333333333334],PARAMETER[&amp;quot;Latitude_Of_Origin&amp;quot;,45.33333333333334],UNIT[&amp;quot;Foot_US&amp;quot;,0.3048006096012192],AUTHORITY[&amp;quot;EPSG&amp;quot;,2927]]&lt;/WKT&gt;&lt;XOrigin&gt;-117498300&lt;/XOrigin&gt;&lt;YOrigin&gt;-98850300&lt;/YOrigin&gt;&lt;XYScale&gt;37801315.839189909&lt;/XYScale&gt;&lt;ZOrigin&gt;-100000&lt;/ZOrigin&gt;&lt;ZScale&gt;10000&lt;/ZScale&gt;&lt;MOrigin&gt;-100000&lt;/MOrigin&gt;&lt;MScale&gt;10000&lt;/MScale&gt;&lt;XYTolerance&gt;0.0032808333333333331&lt;/XYTolerance&gt;&lt;ZTolerance&gt;0.001&lt;/ZTolerance&gt;&lt;MTolerance&gt;0.001&lt;/MTolerance&gt;&lt;HighPrecision&gt;true&lt;/HighPrecision&gt;&lt;WKID&gt;2927&lt;/WKID&gt;&lt;LatestWKID&gt;2927&lt;/LatestWKID&gt;&lt;/ProjectedCoordinateSystem&gt;</peXml>
</coordRef>
<RasterProperties>
<General>
<PixelDepth Sync="TRUE">8</PixelDepth>
<HasColormap Sync="TRUE">FALSE</HasColormap>
<CompressionType Sync="TRUE">LZW</CompressionType>
<NumBands Sync="TRUE">3</NumBands>
<Format Sync="TRUE">TIFF</Format>
<HasPyramids Sync="TRUE">FALSE</HasPyramids>
<SourceType Sync="TRUE">continuous</SourceType>
<PixelType Sync="TRUE">unsigned integer</PixelType>
<NoDataValue Sync="TRUE">256</NoDataValue>
</General>
</RasterProperties>
<lineage>
<Process Date="20210504" Time="142007" ToolSource="c:\users\wkeller\appdata\local\programs\arcgis\pro\Resources\ArcToolbox\toolboxes\Data Management Tools.tbx\MosaicToNewRaster">MosaicToNewRaster C:\Users\Wkeller\Desktop\Orthos\2001\11816710.tif;C:\Users\Wkeller\Desktop\Orthos\2001\11816740.tif;C:\Users\Wkeller\Desktop\Orthos\2001\11816770.tif;C:\Users\Wkeller\Desktop\Orthos\2001\11816800.tif;C:\Users\Wkeller\Desktop\Orthos\2001\11816830.tif;C:\Users\Wkeller\Desktop\Orthos\2001\11816860.tif;C:\Users\Wkeller\Desktop\Orthos\2001\11816890.TIF;C:\Users\Wkeller\Desktop\Orthos\2001\11816920.TIF;C:\Users\Wkeller\Desktop\Orthos\2001\11846710.tif;C:\Users\Wkeller\Desktop\Orthos\2001\11846740.tif;C:\Users\Wkeller\Desktop\Orthos\2001\11846770.tif;C:\Users\Wkeller\Desktop\Orthos\2001\11846800.tif;C:\Users\Wkeller\Desktop\Orthos\2001\11846830.tif;C:\Users\Wkeller\Desktop\Orthos\2001\11846860.tif;C:\Users\Wkeller\Desktop\Orthos\2001\11846890.TIF;C:\Users\Wkeller\Desktop\Orthos\2001\11846920.tif;C:\Users\Wkeller\Desktop\Orthos\2001\11876680.tif;C:\Users\Wkeller\Desktop\Orthos\2001\11876710.tif;C:\Users\Wkeller\Desktop\Orthos\2001\11876740.TIF;C:\Users\Wkeller\Desktop\Orthos\2001\11876770.tif;C:\Users\Wkeller\Desktop\Orthos\2001\11876800.tif;C:\Users\Wkeller\Desktop\Orthos\2001\11876830.tif;C:\Users\Wkeller\Desktop\Orthos\2001\11876860.tif;C:\Users\Wkeller\Desktop\Orthos\2001\11876890.TIF;C:\Users\Wkeller\Desktop\Orthos\2001\11876920.TIF;C:\Users\Wkeller\Desktop\Orthos\2001\11876950.TIF;C:\Users\Wkeller\Desktop\Orthos\2001\11906680.tif;C:\Users\Wkeller\Desktop\Orthos\2001\11906710.TIF;C:\Users\Wkeller\Desktop\Orthos\2001\11906740.TIF;C:\Users\Wkeller\Desktop\Orthos\2001\11906770.tif;C:\Users\Wkeller\Desktop\Orthos\2001\11906800.tif;C:\Users\Wkeller\Desktop\Orthos\2001\11906830.TIF;C:\Users\Wkeller\Desktop\Orthos\2001\11906860.TIF;C:\Users\Wkeller\Desktop\Orthos\2001\11906890.TIF;C:\Users\Wkeller\Desktop\Orthos\2001\11906920.tif;C:\Users\Wkeller\Desktop\Orthos\2001\11906950.TIF;C:\Users\Wkeller\Desktop\Orthos\2001\11936680.tif;C:\Users\Wkeller\Desktop\Orthos\2001\11936710.tif;C:\Users\Wkeller\Desktop\Orthos\2001\11936740.tif;C:\Users\Wkeller\Desktop\Orthos\2001\11936770.tif;C:\Users\Wkeller\Desktop\Orthos\2001\11936800.tif;C:\Users\Wkeller\Desktop\Orthos\2001\11936830.tif;C:\Users\Wkeller\Desktop\Orthos\2001\11936860.tif;C:\Users\Wkeller\Desktop\Orthos\2001\11936890.TIF;C:\Users\Wkeller\Desktop\Orthos\2001\11936920.TIF;C:\Users\Wkeller\Desktop\Orthos\2001\11966680.tif;C:\Users\Wkeller\Desktop\Orthos\2001\11966710.tif;C:\Users\Wkeller\Desktop\Orthos\2001\11966740.tif;C:\Users\Wkeller\Desktop\Orthos\2001\11966770.tif;C:\Users\Wkeller\Desktop\Orthos\2001\11966800.tif;C:\Users\Wkeller\Desktop\Orthos\2001\11966830.tif;C:\Users\Wkeller\Desktop\Orthos\2001\11966860.tif;C:\Users\Wkeller\Desktop\Orthos\2001\11966890.tif;C:\Users\Wkeller\Desktop\Orthos\2001\11966920.TIF;C:\Users\Wkeller\Desktop\Orthos\2001\11996680.tif;C:\Users\Wkeller\Desktop\Orthos\2001\11996710.tif;C:\Users\Wkeller\Desktop\Orthos\2001\11996740.tif;C:\Users\Wkeller\Desktop\Orthos\2001\11996770.tif;C:\Users\Wkeller\Desktop\Orthos\2001\11996800.tif;C:\Users\Wkeller\Desktop\Orthos\2001\11996830.tif;C:\Users\Wkeller\Desktop\Orthos\2001\11996860.tif;C:\Users\Wkeller\Desktop\Orthos\2001\11996890.TIF;C:\Users\Wkeller\Desktop\Orthos\2001\12026710.tif;C:\Users\Wkeller\Desktop\Orthos\2001\12026740.tif;C:\Users\Wkeller\Desktop\Orthos\2001\12026770.tif;C:\Users\Wkeller\Desktop\Orthos\2001\12026800.tif;C:\Users\Wkeller\Desktop\Orthos\2001\12026830.tif;C:\Users\Wkeller\Desktop\Orthos\2001\12026860.tif;C:\Users\Wkeller\Desktop\Orthos\2001\12056710.tif;C:\Users\Wkeller\Desktop\Orthos\2001\12056740.tif;C:\Users\Wkeller\Desktop\Orthos\2001\12056770.tif;C:\Users\Wkeller\Desktop\Orthos\2001\12056800.tif;C:\Users\Wkeller\Desktop\Orthos\2001\12056830.tif;C:\Users\Wkeller\Desktop\Orthos\2001\12056860.tif;C:\Users\Wkeller\Desktop\Orthos\2001\12086740.TIF;C:\Users\Wkeller\Desktop\Orthos\2001\12086770.tif;C:\Users\Wkeller\Desktop\Orthos\2001\12086800.TIF C:\Users\Wkeller\Desktop\Orthos\2001 2001_Imagery_LastFirst.tif PROJCS['NAD_1983_HARN_StatePlane_Washington_South_FIPS_4602_Feet',GEOGCS['GCS_North_American_1983_HARN',DATUM['D_North_American_1983_HARN',SPHEROID['GRS_1980',6378137.0,298.257222101]],PRIMEM['Greenwich',0.0],UNIT['Degree',0.0174532925199433]],PROJECTION['Lambert_Conformal_Conic'],PARAMETER['False_Easting',1640416.666666667],PARAMETER['False_Northing',0.0],PARAMETER['Central_Meridian',-120.5],PARAMETER['Standard_Parallel_1',45.83333333333334],PARAMETER['Standard_Parallel_2',47.33333333333334],PARAMETER['Latitude_Of_Origin',45.33333333333334],UNIT['Foot_US',0.3048006096012192]] "8 bit unsigned" 0.5 3 Last First</Process>
</lineage>
</DataProperties>
<SyncDate>20210504</SyncDate>
<SyncTime>14200700</SyncTime>
<ModDate>20210504</ModDate>
<ModTime>14200700</ModTime>
</Esri>
<dataIdInfo>
<envirDesc Sync="TRUE">Microsoft Windows 10 Version 10.0 (Build 18363) ; Esri ArcGIS 12.7.3.26828</envirDesc>
<dataLang>
<languageCode Sync="TRUE" value="eng"/>
<countryCode Sync="TRUE" value="USA"/>
</dataLang>
<idCitation>
<resTitle Sync="TRUE">2001_Imagery</resTitle>
<presForm>
<PresFormCd Sync="TRUE" value="005"/>
</presForm>
</idCitation>
<spatRpType>
<SpatRepTypCd Sync="TRUE" value="002"/>
</spatRpType>
<dataExt>
<geoEle>
<GeoBndBox esriExtentType="search">
<exTypeCode Sync="TRUE">1</exTypeCode>
<westBL Sync="TRUE">-122.349116</westBL>
<eastBL Sync="TRUE">-122.225767</eastBL>
<northBL Sync="TRUE">47.226226</northBL>
<southBL Sync="TRUE">47.142131</southBL>
</GeoBndBox>
</geoEle>
</dataExt>
<idAbs/>
<searchKeys>
<keyword>2001</keyword>
<keyword>aerial</keyword>
<keyword>imagery</keyword>
<keyword>ortho</keyword>
</searchKeys>
<idPurp>2001 orthoimagery</idPurp>
<idCredit/>
<resConst>
<Consts>
<useLimit/>
</Consts>
</resConst>
</dataIdInfo>
<mdLang>
<languageCode Sync="TRUE" value="eng"/>
<countryCode Sync="TRUE" value="USA"/>
</mdLang>
<mdChar>
<CharSetCd Sync="TRUE" value="004"/>
</mdChar>
<distInfo>
<distFormat>
<formatName Sync="TRUE">Raster Dataset</formatName>
</distFormat>
</distInfo>
<mdHrLv>
<ScopeCd Sync="TRUE" value="005"/>
</mdHrLv>
<mdHrLvName Sync="TRUE">dataset</mdHrLvName>
<refSysInfo>
<RefSystem>
<refSysID>
<identCode Sync="TRUE" code="2927"/>
<idCodeSpace Sync="TRUE">EPSG</idCodeSpace>
<idVersion Sync="TRUE">6.3(9.0.0)</idVersion>
</refSysID>
</RefSystem>
</refSysInfo>
<spatRepInfo>
<Georect>
<cellGeo>
<CellGeoCd Sync="TRUE" value="002"/>
</cellGeo>
<numDims Sync="TRUE">2</numDims>
<tranParaAv Sync="TRUE">1</tranParaAv>
<chkPtAv Sync="TRUE">0</chkPtAv>
<cornerPts>
<pos Sync="TRUE">1181000.000122 665000.000122</pos>
</cornerPts>
<cornerPts>
<pos Sync="TRUE">1181000.000122 695000.000122</pos>
</cornerPts>
<cornerPts>
<pos Sync="TRUE">1211000.000122 695000.000122</pos>
</cornerPts>
<cornerPts>
<pos Sync="TRUE">1211000.000122 665000.000122</pos>
</cornerPts>
<centerPt>
<pos Sync="TRUE">1196000.000122 680000.000122</pos>
</centerPt>
<axisDimension type="002">
<dimSize Sync="TRUE">60000</dimSize>
<dimResol>
<value Sync="TRUE" uom="ftUS">0.500000</value>
</dimResol>
</axisDimension>
<axisDimension type="001">
<dimSize Sync="TRUE">60000</dimSize>
<dimResol>
<value Sync="TRUE" uom="ftUS">0.500000</value>
</dimResol>
</axisDimension>
<ptInPixel>
<PixOrientCd Sync="TRUE" value="001"/>
</ptInPixel>
</Georect>
</spatRepInfo>
<contInfo>
<ImgDesc>
<contentTyp>
<ContentTypCd Sync="TRUE" value="001"/>
</contentTyp>
<covDim>
<Band>
<dimDescrp Sync="TRUE">Band_1</dimDescrp>
<maxVal Sync="TRUE">255.000000</maxVal>
<minVal Sync="TRUE">0.000000</minVal>
<bitsPerVal Sync="TRUE">8</bitsPerVal>
<valUnit>
<UOM type="length"/>
</valUnit>
</Band>
<Band>
<dimDescrp Sync="TRUE">Band_2</dimDescrp>
<maxVal Sync="TRUE">255.000000</maxVal>
<minVal Sync="TRUE">0.000000</minVal>
<bitsPerVal Sync="TRUE">8</bitsPerVal>
<valUnit>
<UOM type="length"/>
</valUnit>
</Band>
<Band>
<dimDescrp Sync="TRUE">Band_3</dimDescrp>
<maxVal Sync="TRUE">255.000000</maxVal>
<minVal Sync="TRUE">0.000000</minVal>
<bitsPerVal Sync="TRUE">8</bitsPerVal>
<valUnit>
<UOM type="length"/>
</valUnit>
</Band>
</covDim>
</ImgDesc>
</contInfo>
<mdDateSt Sync="TRUE">20210504</mdDateSt>
</metadata>
